BEGIN:VCALENDAR
VERSION:2.0
PRODID:-//Hundefreunde Dachau e.V. - ECPv6.15.20//NONSGML v1.0//EN
CALSCALE:GREGORIAN
METHOD:PUBLISH
X-ORIGINAL-URL:https://hundefreunde-dachau.de
X-WR-CALDESC:Veranstaltungen für Hundefreunde Dachau e.V.
REFRESH-INTERVAL;VALUE=DURATION:PT1H
X-Robots-Tag:noindex
X-PUBLISHED-TTL:PT1H
BEGIN:VTIMEZONE
TZID:Europe/Berlin
BEGIN:DAYLIGHT
TZOFFSETFROM:+0100
TZOFFSETTO:+0200
TZNAME:CEST
DTSTART:20230326T010000
END:DAYLIGHT
BEGIN:STANDARD
TZOFFSETFROM:+0200
TZOFFSETTO:+0100
TZNAME:CET
DTSTART:20231029T010000
END:STANDARD
BEGIN:DAYLIGHT
TZOFFSETFROM:+0100
TZOFFSETTO:+0200
TZNAME:CEST
DTSTART:20240331T010000
END:DAYLIGHT
BEGIN:STANDARD
TZOFFSETFROM:+0200
TZOFFSETTO:+0100
TZNAME:CET
DTSTART:20241027T010000
END:STANDARD
BEGIN:DAYLIGHT
TZOFFSETFROM:+0100
TZOFFSETTO:+0200
TZNAME:CEST
DTSTART:20250330T010000
END:DAYLIGHT
BEGIN:STANDARD
TZOFFSETFROM:+0200
TZOFFSETTO:+0100
TZNAME:CET
DTSTART:20251026T010000
END:STANDARD
END:VTIMEZONE
BEGIN:VEVENT
DTSTART;VALUE=DATE:20241003
DTEND;VALUE=DATE:20241004
DTSTAMP:20260421T224733
CREATED:20240209T193615Z
LAST-MODIFIED:20240211T093213Z
UID:1431-1727913600-1727999999@hundefreunde-dachau.de
SUMMARY:Generalprobe Begleithundeprüfung
DESCRIPTION:
URL:https://hundefreunde-dachau.de/event/generalprobe-begleithundepruefung/
END:VEVENT
BEGIN:VEVENT
DTSTART;VALUE=DATE:20241006
DTEND;VALUE=DATE:20241007
DTSTAMP:20260421T224733
CREATED:20240209T193755Z
LAST-MODIFIED:20240309T180800Z
UID:1434-1728172800-1728259199@hundefreunde-dachau.de
SUMMARY:THS Vereinsmeisterschaft
DESCRIPTION:
URL:https://hundefreunde-dachau.de/event/ths-vereinsmeisterschaft/
CATEGORIES:Vereinsmeisterschaft
END:VEVENT
BEGIN:VEVENT
DTSTART;VALUE=DATE:20241012
DTEND;VALUE=DATE:20241013
DTSTAMP:20260421T224733
CREATED:20240309T180459Z
LAST-MODIFIED:20240309T180459Z
UID:1749-1728691200-1728777599@hundefreunde-dachau.de
SUMMARY:Rally Obedience Turnier
DESCRIPTION:
URL:https://hundefreunde-dachau.de/event/rally-obedience-turnier/
CATEGORIES:Turnier
END:VEVENT
BEGIN:VEVENT
DTSTART;VALUE=DATE:20241013
DTEND;VALUE=DATE:20241014
DTSTAMP:20260421T224733
CREATED:20240209T193852Z
LAST-MODIFIED:20240309T180714Z
UID:1436-1728777600-1728863999@hundefreunde-dachau.de
SUMMARY:Begleithundeprüfung
DESCRIPTION:Leistungsrichterin: G. Wegmann
URL:https://hundefreunde-dachau.de/event/begleithundepruefung/
CATEGORIES:Prüfung
END:VEVENT
BEGIN:VEVENT
DTSTART;VALUE=DATE:20241019
DTEND;VALUE=DATE:20241021
DTSTAMP:20260421T224733
CREATED:20240209T194004Z
LAST-MODIFIED:20240309T180652Z
UID:1438-1729296000-1729468799@hundefreunde-dachau.de
SUMMARY:Ausbilderprüfung
DESCRIPTION:Veranstalter BLV
URL:https://hundefreunde-dachau.de/event/ausbilderpruefung/
CATEGORIES:Prüfung
END:VEVENT
BEGIN:VEVENT
DTSTART;VALUE=DATE:20241027
DTEND;VALUE=DATE:20241029
DTSTAMP:20260421T224733
CREATED:20240209T194119Z
LAST-MODIFIED:20240309T180558Z
UID:1440-1729987200-1730159999@hundefreunde-dachau.de
SUMMARY:Internes Obedience Seminar
DESCRIPTION:Das Seminar findet auf dem hinteren Platz 5 statt.
URL:https://hundefreunde-dachau.de/event/obedience-seminar-4/
CATEGORIES:Seminar
END:VEVENT
END:VCALENDAR