BEGIN:VCALENDAR
VERSION:2.0
PRODID:-//Hundefreunde Dachau e.V. - ECPv6.15.20//NONSGML v1.0//EN
CALSCALE:GREGORIAN
METHOD:PUBLISH
X-ORIGINAL-URL:https://hundefreunde-dachau.de
X-WR-CALDESC:Veranstaltungen für Hundefreunde Dachau e.V.
REFRESH-INTERVAL;VALUE=DURATION:PT1H
X-Robots-Tag:noindex
X-PUBLISHED-TTL:PT1H
BEGIN:VTIMEZONE
TZID:Europe/Berlin
BEGIN:DAYLIGHT
TZOFFSETFROM:+0100
TZOFFSETTO:+0200
TZNAME:CEST
DTSTART:20230326T010000
END:DAYLIGHT
BEGIN:STANDARD
TZOFFSETFROM:+0200
TZOFFSETTO:+0100
TZNAME:CET
DTSTART:20231029T010000
END:STANDARD
BEGIN:DAYLIGHT
TZOFFSETFROM:+0100
TZOFFSETTO:+0200
TZNAME:CEST
DTSTART:20240331T010000
END:DAYLIGHT
BEGIN:STANDARD
TZOFFSETFROM:+0200
TZOFFSETTO:+0100
TZNAME:CET
DTSTART:20241027T010000
END:STANDARD
BEGIN:DAYLIGHT
TZOFFSETFROM:+0100
TZOFFSETTO:+0200
TZNAME:CEST
DTSTART:20250330T010000
END:DAYLIGHT
BEGIN:STANDARD
TZOFFSETFROM:+0200
TZOFFSETTO:+0100
TZNAME:CET
DTSTART:20251026T010000
END:STANDARD
END:VTIMEZONE
BEGIN:VEVENT
DTSTART;VALUE=DATE:20240804
DTEND;VALUE=DATE:20240805
DTSTAMP:20260422T034417
CREATED:20240209T192809Z
LAST-MODIFIED:20240213T050104Z
UID:1425-1722729600-1722815999@hundefreunde-dachau.de
SUMMARY:Whippet-Treffen
DESCRIPTION:Treffen des Zwingers Pallid Dragon Whippets\nvon Heike und Gerhard Kain\nAnsprechpartnerin: Gaby Kälbli
URL:https://hundefreunde-dachau.de/event/whippet-treffen/
END:VEVENT
BEGIN:VEVENT
DTSTART;VALUE=DATE:20240811
DTEND;VALUE=DATE:20240812
DTSTAMP:20260422T034417
CREATED:20240209T193011Z
LAST-MODIFIED:20240617T040912Z
UID:1427-1723334400-1723420799@hundefreunde-dachau.de
SUMMARY:Gaudi-Hunderennen
DESCRIPTION:Anmeldung ab 11:00 Uhr\, Start ab 13;00 Uhr
URL:https://hundefreunde-dachau.de/event/gaudi-hunderennen/
END:VEVENT
END:VCALENDAR