BEGIN:VCALENDAR
VERSION:2.0
PRODID:-//Hundefreunde Dachau e.V. - ECPv6.15.20//NONSGML v1.0//EN
CALSCALE:GREGORIAN
METHOD:PUBLISH
X-ORIGINAL-URL:https://hundefreunde-dachau.de
X-WR-CALDESC:Veranstaltungen für Hundefreunde Dachau e.V.
REFRESH-INTERVAL;VALUE=DURATION:PT1H
X-Robots-Tag:noindex
X-PUBLISHED-TTL:PT1H
BEGIN:VTIMEZONE
TZID:Europe/Berlin
BEGIN:DAYLIGHT
TZOFFSETFROM:+0100
TZOFFSETTO:+0200
TZNAME:CEST
DTSTART:20240331T010000
END:DAYLIGHT
BEGIN:STANDARD
TZOFFSETFROM:+0200
TZOFFSETTO:+0100
TZNAME:CET
DTSTART:20241027T010000
END:STANDARD
BEGIN:DAYLIGHT
TZOFFSETFROM:+0100
TZOFFSETTO:+0200
TZNAME:CEST
DTSTART:20250330T010000
END:DAYLIGHT
BEGIN:STANDARD
TZOFFSETFROM:+0200
TZOFFSETTO:+0100
TZNAME:CET
DTSTART:20251026T010000
END:STANDARD
BEGIN:DAYLIGHT
TZOFFSETFROM:+0100
TZOFFSETTO:+0200
TZNAME:CEST
DTSTART:20260329T010000
END:DAYLIGHT
BEGIN:STANDARD
TZOFFSETFROM:+0200
TZOFFSETTO:+0100
TZNAME:CET
DTSTART:20261025T010000
END:STANDARD
END:VTIMEZONE
BEGIN:VEVENT
DTSTART;TZID=Europe/Berlin:20250105T100000
DTEND;TZID=Europe/Berlin:20250105T130000
DTSTAMP:20260421T191628
CREATED:20241213T230406Z
LAST-MODIFIED:20241213T230551Z
UID:1973-1736071200-1736082000@hundefreunde-dachau.de
SUMMARY:Neujahrsempfang Malteser Hilfsdienst\, Gliederung Dachau
DESCRIPTION:Ansprechpartnerin: Gaby Kälbli
URL:https://hundefreunde-dachau.de/event/neujahrsempfang-malteser-hilfsdienst-gliederung-dachau/
END:VEVENT
END:VCALENDAR